BEGIN:VCALENDAR
VERSION:2.0
PRODID:-//Plone.org//NONSGML plone.app.event//EN
X-WR-TIMEZONE:US/Eastern
BEGIN:VEVENT
SUMMARY:Tot Time
DTSTART;TZID=US/Eastern:20191011T100000
DTEND;TZID=US/Eastern:20191011T104500
DTSTAMP:20260420T063655Z
UID:5f2b2b669bb84fab9aa5b984022abe71@saas_stack_varnish:6080
CREATED:20190925T155203Z
DESCRIPTION:For ages birth to four and caregivers.  Join us for stories\, 
 songs\, rhymes and activities appropriate for our littlest library users. 
  It's never too early to begin nurturing the joy of reading!
LAST-MODIFIED:20190925T155214Z
LOCATION:Library Programming Room
URL:https://www.morton.michlibrary.org/tot-time/2019-10-11
END:VEVENT
BEGIN:VTIMEZONE
TZID:US/Eastern
X-LIC-LOCATION:US/Eastern
BEGIN:DAYLIGHT
DTSTART:20190310T030000
TZNAME:EDT
TZOFFSETFROM:-0500
TZOFFSETTO:-0400
END:DAYLIGHT
END:VTIMEZONE
END:VCALENDAR
