BEGIN:VCALENDAR
VERSION:2.0
PRODID:-//Plone.org//NONSGML plone.app.event//EN
X-WR-TIMEZONE:US/Eastern
BEGIN:VEVENT
SUMMARY:Starlab Planetarium - Teen Summer Reading Program
DTSTART;TZID=US/Eastern:20190620T133000
DTEND;TZID=US/Eastern:20190620T143000
DTSTAMP:20260420T082233Z
UID:a132acba9fc643c3bcc0a64781bf977f@saas_stack_varnish:6080
CREATED:20190514T193548Z
DESCRIPTION:Explore the wonders of the night sky from the comfort and secu
 rity of your library.  Gaze upon our Northern Hemisphere\, night sky and m
 ore during this fascinating\, interactive\, and entertaining program.
LAST-MODIFIED:20190514T193614Z
LOCATION:Library Community Room
URL:https://www.morton.michlibrary.org/starlab-planetarium-teen-summer-rea
 ding-program
END:VEVENT
BEGIN:VTIMEZONE
TZID:US/Eastern
X-LIC-LOCATION:US/Eastern
BEGIN:DAYLIGHT
DTSTART:20190310T030000
TZNAME:EDT
TZOFFSETFROM:-0500
TZOFFSETTO:-0400
END:DAYLIGHT
END:VTIMEZONE
END:VCALENDAR
