BEGIN:VCALENDAR
VERSION:2.0
PRODID:-//Plone.org//NONSGML plone.app.event//EN
X-WR-TIMEZONE:US/Eastern
BEGIN:VEVENT
SUMMARY:Preschool Story Hour
DTSTART;TZID=US/Eastern:20190910T100000
DTEND;TZID=US/Eastern:20190910T110000
DTSTAMP:20260420T064403Z
UID:0541ffae6c344106888c887c7161c4d1@saas_stack_varnish:6080
CREATED:20190925T154816Z
DESCRIPTION:For ages 2 - 5 and caregivers.  Join us for stories\, songs\, 
 rhymes\, crafts\, and a snack.
LAST-MODIFIED:20190925T154822Z
LOCATION:Library Programming Room
URL:https://www.morton.michlibrary.org/preschool-story-hour/2019-09-10
END:VEVENT
BEGIN:VTIMEZONE
TZID:US/Eastern
X-LIC-LOCATION:US/Eastern
BEGIN:DAYLIGHT
DTSTART:20190310T030000
TZNAME:EDT
TZOFFSETFROM:-0500
TZOFFSETTO:-0400
END:DAYLIGHT
END:VTIMEZONE
END:VCALENDAR
