BEGIN:VCALENDAR
VERSION:2.0
PRODID:-//Plone.org//NONSGML plone.app.event//EN
X-WR-TIMEZONE:US/Eastern
BEGIN:VEVENT
SUMMARY:Zeemo Productions presents "Toys in Space" - Children's Summer Rea
 ding Program
DTSTART;TZID=US/Eastern:20190731T133000
DTEND;TZID=US/Eastern:20190731T143000
DTSTAMP:20260420T065801Z
UID:466cdd50464f4c01ad48b9746cf47664@saas_stack_varnish:6080
CREATED:20190514T185504Z
DESCRIPTION:Get ready for a rocket ship ride as Zeemo astounds the audienc
 e using toys that were taken into space aboard the Space Shuttle Discovery
 .  His demonstrations will make your senses tingle and your jaws drop.
LAST-MODIFIED:20190514T185511Z
LOCATION:Library Community Room
URL:https://www.morton.michlibrary.org/news-events/lib-cal/zeemo-productio
 ns-presents-toys-in-space-childrens-summer-reading-program
END:VEVENT
BEGIN:VTIMEZONE
TZID:US/Eastern
X-LIC-LOCATION:US/Eastern
BEGIN:DAYLIGHT
DTSTART:20190310T030000
TZNAME:EDT
TZOFFSETFROM:-0500
TZOFFSETTO:-0400
END:DAYLIGHT
END:VTIMEZONE
END:VCALENDAR
