BEGIN:VCALENDAR
VERSION:2.0
PRODID:-//Plone.org//NONSGML plone.app.event//EN
X-WR-TIMEZONE:US/Eastern
BEGIN:VEVENT
SUMMARY:Women Who Changed America Presentation
DTSTART;TZID=US/Eastern:20180619T190000
DTEND;TZID=US/Eastern:20180619T200000
DTSTAMP:20260424T114533Z
UID:124f8003bdac4d61ba1caf74dddc641d@saas_stack_varnish:6080
CREATED:20180515T235107Z
DESCRIPTION:Marie Papsiak as "Mary Todd Lincoln"
LAST-MODIFIED:20180515T235116Z
LOCATION:Community Room
URL:https://www.morton.michlibrary.org/news-events/lib-cal/women-who-chang
 ed-america-presentation
END:VEVENT
BEGIN:VTIMEZONE
TZID:US/Eastern
X-LIC-LOCATION:US/Eastern
BEGIN:DAYLIGHT
DTSTART:20180311T030000
TZNAME:EDT
TZOFFSETFROM:-0500
TZOFFSETTO:-0400
END:DAYLIGHT
END:VTIMEZONE
END:VCALENDAR
