BEGIN:VCALENDAR
VERSION:2.0
PRODID:-//Plone.org//NONSGML plone.app.event//EN
X-WR-TIMEZONE:US/Eastern
BEGIN:VEVENT
SUMMARY:Who Is Russell Kirk presented by Annette Kirk
DTSTART;TZID=US/Eastern:20230727T190000
DTEND;TZID=US/Eastern:20230727T200000
DTSTAMP:20260419T154228Z
UID:597ad319ebf544a58e5bc4d43b3c5d41@saas_stack_varnish:6080
CREATED:20230419T142948Z
DESCRIPTION:Come join Annette Kirk\, Russell's widow\, as she delights us 
 with tales of "Michigan's Greatest Man of Letters." You will learn about h
 is life and legacy\, why he chose to live in Mecosta\, and from our  villa
 ge wrote his 32 books along with his nationally syndicated column\, "To th
 e Point\," which appeared in 100 newspapers five times a week\, and where 
 they hosted visitors from all over the world.
LAST-MODIFIED:20230419T142956Z
LOCATION:Morton Township Library Community Room
URL:https://www.morton.michlibrary.org/news-events/lib-cal/who-is-russell-
 kirk-presented-by-annette-kirk
END:VEVENT
BEGIN:VTIMEZONE
TZID:US/Eastern
X-LIC-LOCATION:US/Eastern
BEGIN:DAYLIGHT
DTSTART:20230312T030000
TZNAME:EDT
TZOFFSETFROM:-0500
TZOFFSETTO:-0400
END:DAYLIGHT
END:VTIMEZONE
END:VCALENDAR
