BEGIN:VCALENDAR
VERSION:2.0
PRODID:-//Plone.org//NONSGML plone.app.event//EN
X-WR-TIMEZONE:US/Eastern
BEGIN:VEVENT
SUMMARY:When Hollywood Went to War
DTSTART;TZID=US/Eastern:20220712T190000
DTEND;TZID=US/Eastern:20220712T200000
DTSTAMP:20260419T212423Z
UID:fe38370fae5d453f927b0ee9ceef7336@saas_stack_varnish:6080
CREATED:20220511T200328Z
DESCRIPTION:Hear Al and Dave Eicher tell the stories of nearly 90 celebrit
 ies who served in the U.S. Military during World War II.  These 1940’s c
 elebrities\, young and some older\, took time out of their successful care
 ers to protect and preserve our freedom.  Did you know Kirk Douglas was on
  a Sub-Chaser?  Jimmy Stewart piloted the B-24 Liberator?  Bea Arthur was 
 a U.S. Marine Corp Staff Sgt.\, and Julia Child was an American spy?  Be p
 repared for some real surprises!
LAST-MODIFIED:20220511T200434Z
LOCATION:Library Community Room
URL:https://www.morton.michlibrary.org/news-events/lib-cal/when-hollywood-
 went-to-war
END:VEVENT
BEGIN:VTIMEZONE
TZID:US/Eastern
X-LIC-LOCATION:US/Eastern
BEGIN:DAYLIGHT
DTSTART:20220313T030000
TZNAME:EDT
TZOFFSETFROM:-0500
TZOFFSETTO:-0400
END:DAYLIGHT
END:VTIMEZONE
END:VCALENDAR
