BEGIN:VCALENDAR
VERSION:2.0
PRODID:-//Plone.org//NONSGML plone.app.event//EN
X-WR-TIMEZONE:US/Eastern
BEGIN:VEVENT
SUMMARY:Valentine's Day Children's Crafts and Cocoa Bar
DTSTART;TZID=US/Eastern:20200213T150000
DTEND;TZID=US/Eastern:20200213T164500
DTSTAMP:20260420T032309Z
UID:a53db37b92f04ad28a416e3afff1c5cd@saas_stack_varnish:6080
CREATED:20200130T165045Z
DESCRIPTION:Celebrate Valentine’s Day at the library! Children of all ag
 es are invited to stop in any time between 3:00 and 4:45 p.m. for a warm c
 ocoa bar\, Valentine’s Day crafts\, snacks\, and their favorite books to
  check out and take home!
LAST-MODIFIED:20200130T165053Z
LOCATION:Library Community Room
URL:https://www.morton.michlibrary.org/news-events/lib-cal/valentines-day-
 childrens-crafts-and-cocoa-bar
END:VEVENT
BEGIN:VTIMEZONE
TZID:US/Eastern
X-LIC-LOCATION:US/Eastern
BEGIN:STANDARD
DTSTART:20191103T010000
TZNAME:EST
TZOFFSETFROM:-0400
TZOFFSETTO:-0500
END:STANDARD
END:VTIMEZONE
END:VCALENDAR
