BEGIN:VCALENDAR
VERSION:2.0
PRODID:-//Plone.org//NONSGML plone.app.event//EN
X-WR-TIMEZONE:US/Eastern
BEGIN:VEVENT
SUMMARY:USCGC Mackinaw - A Tale of Two Ships presented by Michael Fornes
DTSTART;TZID=US/Eastern:20230627T190000
DTEND;TZID=US/Eastern:20230627T200000
DTSTAMP:20260419T171141Z
UID:8b49519f3c1748d6b3591d7228d840c0@saas_stack_varnish:6080
CREATED:20230419T142439Z
DESCRIPTION:Since 1944\, the Mackinaw has been on guard through gale-force
  winds\, the pressure of crushing ice flows and blinding snowstorms. The n
 ew ship continues the legacy of the original as a Halloween “ghost ship\
 ,” Chicago’s “Christmas Tree Ship” and the star of the annual Coas
 t Guard Festival. Hear the stories\, see the photos\, and meet the people 
 who have twice made this engineering wonder a symbol of strength and safet
 y on the Great Lakes.
LAST-MODIFIED:20230419T142445Z
LOCATION:Morton Township Library Community Room
URL:https://www.morton.michlibrary.org/news-events/lib-cal/uscgc-mackinaw-
 a-tale-of-two-ships-presented-by-michael-fornes
END:VEVENT
BEGIN:VTIMEZONE
TZID:US/Eastern
X-LIC-LOCATION:US/Eastern
BEGIN:DAYLIGHT
DTSTART:20230312T030000
TZNAME:EDT
TZOFFSETFROM:-0500
TZOFFSETTO:-0400
END:DAYLIGHT
END:VTIMEZONE
END:VCALENDAR
