BEGIN:VCALENDAR
VERSION:2.0
PRODID:-//Plone.org//NONSGML plone.app.event//EN
X-WR-TIMEZONE:US/Eastern
BEGIN:VEVENT
SUMMARY:Tot Time
DTSTART;TZID=US/Eastern:20181102T100000
DTEND;TZID=US/Eastern:20181102T104500
DTSTAMP:20260420T150410Z
UID:005092f6bcfb41259f62f8ba03025ec7@saas_stack_varnish:6080
CREATED:20180831T195613Z
DESCRIPTION:For children ages 0 - 4 and caregivers.  Tot Time features sto
 ries\, rhymes\, music and activities appropriate for our littlest library 
 users.
LAST-MODIFIED:20180831T195618Z
LOCATION:Children's Programming Room
URL:https://www.morton.michlibrary.org/news-events/lib-cal/tot-time-6/2018
 -11-02
END:VEVENT
BEGIN:VTIMEZONE
TZID:US/Eastern
X-LIC-LOCATION:US/Eastern
BEGIN:DAYLIGHT
DTSTART:20180311T030000
TZNAME:EDT
TZOFFSETFROM:-0500
TZOFFSETTO:-0400
END:DAYLIGHT
END:VTIMEZONE
END:VCALENDAR
