BEGIN:VCALENDAR
VERSION:2.0
PRODID:-//Plone.org//NONSGML plone.app.event//EN
X-WR-TIMEZONE:US/Eastern
BEGIN:VEVENT
SUMMARY:Tot Time
DTSTART;TZID=US/Eastern:20180112T100000
DTEND;TZID=US/Eastern:20180112T104500
DTSTAMP:20260422T163748Z
UID:01a560ceb34349f08973ae5da321debe@saas_stack_varnish:6080
RRULE:FREQ=WEEKLY;UNTIL=20180512T000000;BYDAY=FR
EXDATE;TZID=US/Eastern:20180330T000000
CREATED:20180103T180852Z
DESCRIPTION:For children ages 0 - 4 and caregivers. Join us for stories\, 
 rhymes\, music and activities appropriate for our littlest library users.
LAST-MODIFIED:20180103T180857Z
LOCATION:Children's Programming Room
URL:https://www.morton.michlibrary.org/news-events/lib-cal/tot-time-5
END:VEVENT
BEGIN:VTIMEZONE
TZID:US/Eastern
X-LIC-LOCATION:US/Eastern
BEGIN:STANDARD
DTSTART:20171105T010000
TZNAME:EST
TZOFFSETFROM:-0400
TZOFFSETTO:-0500
END:STANDARD
END:VTIMEZONE
END:VCALENDAR
