BEGIN:VCALENDAR
VERSION:2.0
PRODID:-//Plone.org//NONSGML plone.app.event//EN
X-WR-TIMEZONE:US/Eastern
BEGIN:VEVENT
SUMMARY:Tot Time
DTSTART;TZID=US/Eastern:20180504T100000
DTEND;TZID=US/Eastern:20180504T104500
DTSTAMP:20260422T152432Z
UID:01a560ceb34349f08973ae5da321debe@saas_stack_varnish:6080
CREATED:20180103T180852Z
DESCRIPTION:For children ages 0 - 4 and caregivers. Join us for stories\, 
 rhymes\, music and activities appropriate for our littlest library users.
LAST-MODIFIED:20180103T180857Z
LOCATION:Children's Programming Room
URL:https://www.morton.michlibrary.org/news-events/lib-cal/tot-time-5/2018
 -05-04
END:VEVENT
BEGIN:VTIMEZONE
TZID:US/Eastern
X-LIC-LOCATION:US/Eastern
BEGIN:DAYLIGHT
DTSTART:20180311T030000
TZNAME:EDT
TZOFFSETFROM:-0500
TZOFFSETTO:-0400
END:DAYLIGHT
END:VTIMEZONE
END:VCALENDAR
