BEGIN:VCALENDAR
VERSION:2.0
PRODID:-//Plone.org//NONSGML plone.app.event//EN
X-WR-TIMEZONE:US/Eastern
BEGIN:VEVENT
SUMMARY:Tie Dye Creations - Tween/Teen Summer Reading Program
DTSTART;TZID=US/Eastern:20220707T133000
DTEND;TZID=US/Eastern:20220707T143000
DTSTAMP:20260419T212608Z
UID:2603669bad164a58989bbb75b4101837@saas_stack_varnish:6080
CREATED:20220516T141101Z
DESCRIPTION:Tweens/Teens entering 5th - 12 grades - You bring the shirt\, 
 we'll provide the materials to create your own tie-dyed t-shirt!  When you
 're finished\, enjoy a game of Cornhole\, Jenga\, yard darts\, ladder ball
  and more!
LAST-MODIFIED:20220516T141110Z
LOCATION:Bromley Park\, Mecosta
URL:https://www.morton.michlibrary.org/news-events/lib-cal/tie-dye-creatio
 ns-tween-teen-summer-reading-program
END:VEVENT
BEGIN:VTIMEZONE
TZID:US/Eastern
X-LIC-LOCATION:US/Eastern
BEGIN:DAYLIGHT
DTSTART:20220313T030000
TZNAME:EDT
TZOFFSETFROM:-0500
TZOFFSETTO:-0400
END:DAYLIGHT
END:VTIMEZONE
END:VCALENDAR
