BEGIN:VCALENDAR
VERSION:2.0
PRODID:-//Plone.org//NONSGML plone.app.event//EN
X-WR-TIMEZONE:US/Eastern
BEGIN:VEVENT
SUMMARY:The Story of Four Local Businesses
DTSTART;TZID=US/Eastern:20230802T190000
DTEND;TZID=US/Eastern:20230802T200000
DTSTAMP:20260419T155739Z
UID:35761424e0dc4f64ab2c14d8b6d8d7ed@saas_stack_varnish:6080
CREATED:20230725T132046Z
DESCRIPTION:Join us for this presentation featuring four local businesses:
  Ace Hardware\, Hayden Outdoors Real Estate\, Hixson's Family Market\, and
  Mannix Company\, Inc.  Learn fun and interesting facts about them and fin
 d out how several generations have made these businesses staples in our co
 mmunity.\n\nThis presentation has been organized by the Friends of the Lib
 rary.
LAST-MODIFIED:20230725T132120Z
LOCATION:Morton Township Library Community Room
URL:https://www.morton.michlibrary.org/news-events/lib-cal/the-story-of-fo
 ur-local-businesses
END:VEVENT
BEGIN:VTIMEZONE
TZID:US/Eastern
X-LIC-LOCATION:US/Eastern
BEGIN:DAYLIGHT
DTSTART:20230312T030000
TZNAME:EDT
TZOFFSETFROM:-0500
TZOFFSETTO:-0400
END:DAYLIGHT
END:VTIMEZONE
END:VCALENDAR
