BEGIN:VCALENDAR
VERSION:2.0
PRODID:-//Plone.org//NONSGML plone.app.event//EN
X-WR-TIMEZONE:US/Eastern
BEGIN:VEVENT
SUMMARY:The Science of Oz presented by Steve Belliveau (Teen Summer Readin
 g Program)
DTSTART;TZID=US/Eastern:20230629T133000
DTEND;TZID=US/Eastern:20230629T143000
DTSTAMP:20260419T170712Z
UID:2180e14274de4d9dbe195440b660c371@saas_stack_varnish:6080
CREATED:20230517T193632Z
DESCRIPTION:Make a tornado\, launch a hot air balloon\, melt a witch!  Lea
 rn the science of Oz during this interactive S.T.E.A.M. presentation.
LAST-MODIFIED:20230517T193700Z
LOCATION:Morton Township Library Community Room
URL:https://www.morton.michlibrary.org/news-events/lib-cal/the-science-of-
 oz-presented-by-steve-belliveau
END:VEVENT
BEGIN:VTIMEZONE
TZID:US/Eastern
X-LIC-LOCATION:US/Eastern
BEGIN:DAYLIGHT
DTSTART:20230312T030000
TZNAME:EDT
TZOFFSETFROM:-0500
TZOFFSETTO:-0400
END:DAYLIGHT
END:VTIMEZONE
END:VCALENDAR
