BEGIN:VCALENDAR
VERSION:2.0
PRODID:-//Plone.org//NONSGML plone.app.event//EN
X-WR-TIMEZONE:US/Eastern
BEGIN:VEVENT
SUMMARY:The Old Settlers
DTSTART;TZID=US/Eastern:20240620T190000
DTEND;TZID=US/Eastern:20240620T200000
DTSTAMP:20260421T103833Z
UID:a162e562965946458d7d7374a091efcd@saas_stack_varnish:6080
CREATED:20240410T200615Z
DESCRIPTION:Join us for an informative and fascinating presentation about 
 the Old Settlers of Mecosta\, Isabella\, and Montcalm Counties.  The prese
 nters will focus on four historical sites in Morton and Wheatland Township
 s: Wheatland Church of Christ\, the Morgan West Wheatland Cemetery\, Schoo
 l Section Lake Veterans Park\, and the Little River Schoolhouse.
LAST-MODIFIED:20240410T200622Z
LOCATION:Morton Township Library Community Room
URL:https://www.morton.michlibrary.org/news-events/lib-cal/the-old-settler
 s
END:VEVENT
BEGIN:VTIMEZONE
TZID:US/Eastern
X-LIC-LOCATION:US/Eastern
BEGIN:DAYLIGHT
DTSTART:20240310T030000
TZNAME:EDT
TZOFFSETFROM:-0500
TZOFFSETTO:-0400
END:DAYLIGHT
END:VTIMEZONE
END:VCALENDAR
