BEGIN:VCALENDAR
VERSION:2.0
PRODID:-//Plone.org//NONSGML plone.app.event//EN
X-WR-TIMEZONE:US/Eastern
BEGIN:VEVENT
SUMMARY:"The Life of a Honey Bee" presented by Bees in the D
DTSTART;TZID=US/Eastern:20210623T133000
DTEND;TZID=US/Eastern:20210623T143000
DTSTAMP:20260420T015004Z
UID:b9b94e9b39094d67bd5917cb302a55dc@saas_stack_varnish:6080
CONTACT:2319728315\, jschafer@mtplibrary.org
CREATED:20210524T161620Z
DESCRIPTION:Children's Virtual Summer Reading Event
LAST-MODIFIED:20210623T133400Z
LOCATION:Online - Zoom
URL:https://www.morton.michlibrary.org/news-events/lib-cal/the-life-of-a-h
 oney-bee-presented-by-bees-in-the-d
END:VEVENT
BEGIN:VTIMEZONE
TZID:US/Eastern
X-LIC-LOCATION:US/Eastern
BEGIN:DAYLIGHT
DTSTART:20210314T030000
TZNAME:EDT
TZOFFSETFROM:-0500
TZOFFSETTO:-0400
END:DAYLIGHT
END:VTIMEZONE
END:VCALENDAR
