BEGIN:VCALENDAR
VERSION:2.0
PRODID:-//Plone.org//NONSGML plone.app.event//EN
X-WR-TIMEZONE:US/Eastern
BEGIN:VEVENT
SUMMARY:The Legacy of Emmett Till presented by Jim Herm
DTSTART;TZID=US/Eastern:20230524T190000
DTEND;TZID=US/Eastern:20230524T200000
DTSTAMP:20260419T183613Z
UID:e3ffe6f9d4104b09aeee47fad764b947@saas_stack_varnish:6080
CREATED:20230419T142211Z
DESCRIPTION:The story of Emmett Till was silenced for over 50 years after 
 his brutal murder on August 28\, 1955. Discover the untold history of the 
 injustice that followed fourteen-year-old Emmett’s trop to buy candy at 
 Bryant’s Grocery in Money\, Mississippi\, where he whistled at the white
  store clerk. In this presentation\, retired Portage Public School history
  teacher Jim Herm will share his research into the post-Civil War South\, 
 the legacy of Emmett Till\, and the start of the Civil Rights movement.
LAST-MODIFIED:20230419T142229Z
LOCATION:Morton Township Library Community Room
URL:https://www.morton.michlibrary.org/news-events/lib-cal/the-legacy-of-e
 mmett-till-presented-by-jim-herm
END:VEVENT
BEGIN:VTIMEZONE
TZID:US/Eastern
X-LIC-LOCATION:US/Eastern
BEGIN:DAYLIGHT
DTSTART:20230312T030000
TZNAME:EDT
TZOFFSETFROM:-0500
TZOFFSETTO:-0400
END:DAYLIGHT
END:VTIMEZONE
END:VCALENDAR
