BEGIN:VCALENDAR
VERSION:2.0
PRODID:-//Plone.org//NONSGML plone.app.event//EN
X-WR-TIMEZONE:US/Eastern
BEGIN:VEVENT
SUMMARY:The History of Tiger Stadium presented by Author Doc Fletcher
DTSTART;TZID=US/Eastern:20220519T160000
DTEND;TZID=US/Eastern:20220519T170000
DTSTAMP:20260419T225633Z
UID:97d76aa4bc174d1db3142764d02ce034@saas_stack_varnish:6080
CREATED:20220420T162139Z
DESCRIPTION:Doc will discuss his book The History of Tiger Stadium: A Love
  Letter to Baseball at Michigan & Trumball and share tales of the grand Ol
 d Ballpark at the Corner.  C’mon out to hear stories of Charlie Bennett 
 – the man the first ballpark at the corner was named in honor of\, along
  with Ty Cobb\, Hammerin’ Hank Greenberg\, Al Kaline\, Stormin’ Norman
  Cash\, Ernie Harwell\, and so many more.  And…enjoy some gold ole ballp
 ark snacks.
LAST-MODIFIED:20220420T162148Z
LOCATION:Library Community Room
URL:https://www.morton.michlibrary.org/news-events/lib-cal/the-history-of-
 tiger-stadium-presented-by-author-doc-fletcher
END:VEVENT
BEGIN:VTIMEZONE
TZID:US/Eastern
X-LIC-LOCATION:US/Eastern
BEGIN:DAYLIGHT
DTSTART:20220313T030000
TZNAME:EDT
TZOFFSETFROM:-0500
TZOFFSETTO:-0400
END:DAYLIGHT
END:VTIMEZONE
END:VCALENDAR
