BEGIN:VCALENDAR
VERSION:2.0
PRODID:-//Plone.org//NONSGML plone.app.event//EN
X-WR-TIMEZONE:US/Eastern
BEGIN:VEVENT
SUMMARY:The Fight to Preserve Freedom
DTSTART;TZID=US/Eastern:20220907T100000
DTEND;TZID=US/Eastern:20220907T110000
DTSTAMP:20260419T212742Z
UID:b29861017b944914b0ff89e0bee96deb@saas_stack_varnish:6080
CREATED:20220511T201750Z
DESCRIPTION:Join local author and historian for this "Coffee with Dr. Deeb
 " Civil War Presentation.
LAST-MODIFIED:20220804T142603Z
LOCATION:Library Community Room
URL:https://www.morton.michlibrary.org/news-events/lib-cal/the-fight-to-pr
 eserve-freedom
END:VEVENT
BEGIN:VTIMEZONE
TZID:US/Eastern
X-LIC-LOCATION:US/Eastern
BEGIN:DAYLIGHT
DTSTART:20220313T030000
TZNAME:EDT
TZOFFSETFROM:-0500
TZOFFSETTO:-0400
END:DAYLIGHT
END:VTIMEZONE
END:VCALENDAR
