BEGIN:VCALENDAR
VERSION:2.0
PRODID:-//Plone.org//NONSGML plone.app.event//EN
X-WR-TIMEZONE:US/Eastern
BEGIN:VEVENT
SUMMARY:The Edmund Fitzgerald presented by Ric Mixter
DTSTART;TZID=US/Eastern:20190806T190000
DTEND;TZID=US/Eastern:20190806T200000
DTSTAMP:20260420T065623Z
UID:6aabcbad32d940d1ab69d2bcec25145b@saas_stack_varnish:6080
CREATED:20190514T200859Z
DESCRIPTION:Ric Mixter is one of only a handful of divers to visit the Edm
 und Fitzgerald wreck site\, some 550 feet below Lake Superior.  His spellb
 inding lecture encompasses the ship's construction near Detroit and the sh
 ip's final voyage from Wisconsin.  From former crew to each of the investi
 gators\, Ric shares details that few know about this largest shipwreck in 
 the Great Lakes.
LAST-MODIFIED:20190515T144318Z
LOCATION:Library Community Room
URL:https://www.morton.michlibrary.org/news-events/lib-cal/the-edmund-fitz
 gerald-presented-by-ric-mixter
END:VEVENT
BEGIN:VTIMEZONE
TZID:US/Eastern
X-LIC-LOCATION:US/Eastern
BEGIN:DAYLIGHT
DTSTART:20190310T030000
TZNAME:EDT
TZOFFSETFROM:-0500
TZOFFSETTO:-0400
END:DAYLIGHT
END:VTIMEZONE
END:VCALENDAR
