BEGIN:VCALENDAR
VERSION:2.0
PRODID:-//Plone.org//NONSGML plone.app.event//EN
X-WR-TIMEZONE:US/Eastern
BEGIN:VEVENT
SUMMARY:The Coming of the Civil War
DTSTART;TZID=US/Eastern:20220921T100000
DTEND;TZID=US/Eastern:20220921T110000
DTSTAMP:20260419T200219Z
UID:c4b31eef814e49f69ae27ade255527bb@saas_stack_varnish:6080
CREATED:20220511T201900Z
DESCRIPTION:Join local author and historian for this "Coffee with Dr. Deeb
 " Civil War Presentation.
LAST-MODIFIED:20220511T201904Z
LOCATION:Library Community Room
URL:https://www.morton.michlibrary.org/news-events/lib-cal/the-coming-of-t
 he-civil-war
END:VEVENT
BEGIN:VTIMEZONE
TZID:US/Eastern
X-LIC-LOCATION:US/Eastern
BEGIN:DAYLIGHT
DTSTART:20220313T030000
TZNAME:EDT
TZOFFSETFROM:-0500
TZOFFSETTO:-0400
END:DAYLIGHT
END:VTIMEZONE
END:VCALENDAR
