BEGIN:VCALENDAR
VERSION:2.0
PRODID:-//Plone.org//NONSGML plone.app.event//EN
X-WR-TIMEZONE:US/Eastern
BEGIN:VEVENT
SUMMARY:Alzheimer Awareness Month: The 10 Warning Signs of Alzheimer's
DTSTART;TZID=US/Eastern:20220608T140000
DTEND;TZID=US/Eastern:20220608T143000
DTSTAMP:20260419T225633Z
UID:de80aca1fd4740ec9b6c08c90b9d2467@saas_stack_varnish:6080
CREATED:20220511T201306Z
DESCRIPTION:Join Susan Evans from the Alzheimer's Association Michigan Cha
 pter for this program that will help you recognize common signs of the dis
 ease in yourself and others and the next steps to take\, including how to 
 talk to your doctor.
LAST-MODIFIED:20220511T201338Z
LOCATION:Library Community Room
URL:https://www.morton.michlibrary.org/news-events/lib-cal/the-10-warning-
 signs-of-alzheimers
END:VEVENT
BEGIN:VTIMEZONE
TZID:US/Eastern
X-LIC-LOCATION:US/Eastern
BEGIN:DAYLIGHT
DTSTART:20220313T030000
TZNAME:EDT
TZOFFSETFROM:-0500
TZOFFSETTO:-0400
END:DAYLIGHT
END:VTIMEZONE
END:VCALENDAR
