BEGIN:VCALENDAR
VERSION:2.0
PRODID:-//Plone.org//NONSGML plone.app.event//EN
X-WR-TIMEZONE:US/Eastern
BEGIN:VEVENT
SUMMARY:Terror in the South with Dr. Michael Deeb
DTSTART;TZID=US/Eastern:20190724T190000
DTEND;TZID=US/Eastern:20190724T200000
DTSTAMP:20260420T083322Z
UID:44c53fa5adf34ee9822c9e8971837956@saas_stack_varnish:6080
CREATED:20190514T200622Z
DESCRIPTION:Local historian and author\, Dr. Michael Deeb\, will review th
 e activities of the two terrorist organizations operating in the south dur
 ing reconstruction.  The KKK and the Union League were paramilitary organi
 zations terrorizing whites and freed men during that period (1865 to 1878)
 .
LAST-MODIFIED:20190514T200634Z
LOCATION:Library Community Room
URL:https://www.morton.michlibrary.org/news-events/lib-cal/terror-in-the-s
 outh-with-dr-michael-deeb
END:VEVENT
BEGIN:VTIMEZONE
TZID:US/Eastern
X-LIC-LOCATION:US/Eastern
BEGIN:DAYLIGHT
DTSTART:20190310T030000
TZNAME:EDT
TZOFFSETFROM:-0500
TZOFFSETTO:-0400
END:DAYLIGHT
END:VTIMEZONE
END:VCALENDAR
