BEGIN:VCALENDAR
VERSION:2.0
PRODID:-//Plone.org//NONSGML plone.app.event//EN
X-WR-TIMEZONE:US/Eastern
BEGIN:VEVENT
SUMMARY:Teen Summer Reading Program
DTSTART;TZID=US/Eastern:20180628T133000
DTEND;TZID=US/Eastern:20180628T143000
DTSTAMP:20260422T134025Z
UID:e52da7e5bc674938b59dd8f0fa05894e@saas_stack_varnish:6080
CREATED:20180514T151719Z
DESCRIPTION:Teens in grades 5 - 12 are invited to join us for exciting act
 ivities and events.  Earn prizes for time spent reading\, too!
LAST-MODIFIED:20180514T151723Z
LOCATION:Community Room
URL:https://www.morton.michlibrary.org/news-events/lib-cal/teen-summer-rea
 ding-program/2018-06-28
END:VEVENT
BEGIN:VTIMEZONE
TZID:US/Eastern
X-LIC-LOCATION:US/Eastern
BEGIN:DAYLIGHT
DTSTART:20180311T030000
TZNAME:EDT
TZOFFSETFROM:-0500
TZOFFSETTO:-0400
END:DAYLIGHT
END:VTIMEZONE
END:VCALENDAR
