BEGIN:VCALENDAR
VERSION:2.0
PRODID:-//Plone.org//NONSGML plone.app.event//EN
X-WR-TIMEZONE:US/Eastern
BEGIN:VEVENT
SUMMARY:Teddy Roosevelt: National Parks\, Conservation\, Preservation pres
 ented by Larry Marple
DTSTART;TZID=US/Eastern:20230812T110000
DTEND;TZID=US/Eastern:20230812T120000
DTSTAMP:20260419T155245Z
UID:6962ef0fc5bc425ea9fe743f2ee82200@saas_stack_varnish:6080
CREATED:20230419T143126Z
DESCRIPTION:Come learn from Larry Marple as he portrays President Theodore
  Roosevelt\, dressed as Teddy did when he visited Yosemite with John Muir 
 in 1903. Listen as he describes how Roosevelt felt about conservation and 
 preservation throughout his life\, his family’s stance on the matter\, a
 nd how he saved more than 200 million acres of land for future generations
  to enjoy.
LAST-MODIFIED:20230419T143134Z
LOCATION:Morton Township Library Community Room
URL:https://www.morton.michlibrary.org/news-events/lib-cal/teddy-roosevelt
 -national-parks-conservation-preservation-presented-by-larry-marple
END:VEVENT
BEGIN:VTIMEZONE
TZID:US/Eastern
X-LIC-LOCATION:US/Eastern
BEGIN:DAYLIGHT
DTSTART:20230312T030000
TZNAME:EDT
TZOFFSETFROM:-0500
TZOFFSETTO:-0400
END:DAYLIGHT
END:VTIMEZONE
END:VCALENDAR
