BEGIN:VCALENDAR
VERSION:2.0
PRODID:-//Plone.org//NONSGML plone.app.event//EN
X-WR-TIMEZONE:US/Eastern
BEGIN:VEVENT
SUMMARY:Summer Reading Celebration with the Balloon Guy!
DTSTART;TZID=US/Eastern:20220727T133000
DTEND;TZID=US/Eastern:20220727T143000
DTSTAMP:20260419T212608Z
UID:af6894e8d4b24d9ab102babab540ceb9@saas_stack_varnish:6080
CREATED:20220516T140026Z
DESCRIPTION:Let's celebrate!  Enjoy a performance by the Balloon Guy\, alo
 ng with games and snacks.  Each child will receive their prize bag for com
 pleting the summer reading challenge along with a balloon animal made spec
 ially for them.  It's time to celebrate a great summer of reading and FUN!
LAST-MODIFIED:20220516T140125Z
LOCATION:Bromley Park\, Mecosta
URL:https://www.morton.michlibrary.org/news-events/lib-cal/summer-reading-
 celebration-with-the-balloon-guy
END:VEVENT
BEGIN:VTIMEZONE
TZID:US/Eastern
X-LIC-LOCATION:US/Eastern
BEGIN:DAYLIGHT
DTSTART:20220313T030000
TZNAME:EDT
TZOFFSETFROM:-0500
TZOFFSETTO:-0400
END:DAYLIGHT
END:VTIMEZONE
END:VCALENDAR
