BEGIN:VCALENDAR
VERSION:2.0
PRODID:-//Plone.org//NONSGML plone.app.event//EN
X-WR-TIMEZONE:US/Eastern
BEGIN:VEVENT
SUMMARY:Story Hour
DTSTART;TZID=US/Eastern:20220426T100000
DTEND;TZID=US/Eastern:20220426T110000
DTSTAMP:20260419T225215Z
UID:db5d5548fd6142829c09554797f11fce@saas_stack_varnish:6080
CREATED:20220114T210226Z
DESCRIPTION:Children ages 0-5 are invited to join us for stories\, songs\,
  rhymes\, crafts and FUN!
LAST-MODIFIED:20220309T193755Z
LOCATION:Children's Programming Room
URL:https://www.morton.michlibrary.org/news-events/lib-cal/story-hour-1/20
 22-04-26
END:VEVENT
BEGIN:VTIMEZONE
TZID:US/Eastern
X-LIC-LOCATION:US/Eastern
BEGIN:DAYLIGHT
DTSTART:20220313T030000
TZNAME:EDT
TZOFFSETFROM:-0500
TZOFFSETTO:-0400
END:DAYLIGHT
END:VTIMEZONE
END:VCALENDAR
