BEGIN:VCALENDAR
VERSION:2.0
PRODID:-//Plone.org//NONSGML plone.app.event//EN
X-WR-TIMEZONE:US/Eastern
BEGIN:VEVENT
SUMMARY:Story Hour
DTSTART;TZID=US/Eastern:20220208T100000
DTEND;TZID=US/Eastern:20220208T110000
DTSTAMP:20260420T001556Z
UID:db5d5548fd6142829c09554797f11fce@saas_stack_varnish:6080
CREATED:20220114T210226Z
DESCRIPTION:Children ages 0-5 are invited to join us for stories\, songs\,
  rhymes\, crafts and FUN!
LAST-MODIFIED:20220309T193755Z
LOCATION:Children's Programming Room
URL:https://www.morton.michlibrary.org/news-events/lib-cal/story-hour-1/20
 22-02-08
END:VEVENT
BEGIN:VTIMEZONE
TZID:US/Eastern
X-LIC-LOCATION:US/Eastern
BEGIN:STANDARD
DTSTART:20211107T010000
TZNAME:EST
TZOFFSETFROM:-0400
TZOFFSETTO:-0500
END:STANDARD
END:VTIMEZONE
END:VCALENDAR
