BEGIN:VCALENDAR
VERSION:2.0
PRODID:-//Plone.org//NONSGML plone.app.event//EN
X-WR-TIMEZONE:US/Eastern
BEGIN:VEVENT
SUMMARY:Still Missing\, Michigan's Mysterious Disappearances
DTSTART;TZID=US/Eastern:20220920T190000
DTEND;TZID=US/Eastern:20220920T200000
DTSTAMP:20260419T195305Z
UID:b84d941b6b034aaa97555b04ee5bd1f0@saas_stack_varnish:6080
CREATED:20220511T201025Z
DESCRIPTION:Join Shipwreck Hunter and author Ross Richardson in exploring 
 the depths of Northern Lake Michigan while looking for lost ships and miss
 ing aircraft.  Dive down to Lake Michigan’s newest shipwreck discovery a
 nd meander through the histories and mysteries of the Manitou Passage\, th
 e most dangerous place in Lake Michigan.  Ross has spent the last two deca
 des exploring the bottom of the Great Lakes and discovering and documentin
 g long lost shipwrecks.
LAST-MODIFIED:20220511T201030Z
LOCATION:Library Community Room
URL:https://www.morton.michlibrary.org/news-events/lib-cal/still-missing-m
 ichigans-mysterious-disappearances
END:VEVENT
BEGIN:VTIMEZONE
TZID:US/Eastern
X-LIC-LOCATION:US/Eastern
BEGIN:DAYLIGHT
DTSTART:20220313T030000
TZNAME:EDT
TZOFFSETFROM:-0500
TZOFFSETTO:-0400
END:DAYLIGHT
END:VTIMEZONE
END:VCALENDAR
