BEGIN:VCALENDAR
VERSION:2.0
PRODID:-//Plone.org//NONSGML plone.app.event//EN
X-WR-TIMEZONE:US/Eastern
BEGIN:VEVENT
SUMMARY:Spooky Monster Magic Show
DTSTART;TZID=US/Eastern:20181025T183000
DTEND;TZID=US/Eastern:20181025T193000
DTSTAMP:20260420T150311Z
UID:2f9d84f4b5d642a0974858322285783f@saas_stack_varnish:6080
CREATED:20181008T132822Z
DESCRIPTION:Gordon’s Spooktacular performance is truly one-of-a-kind\, c
 ombining fast-paced fun with audience participation.  It includes fun and 
 not-so-spooky music\, magical monster props\, and a wealth of experience e
 ntertaining boys and ghouls from coast to ghost.  Your entire family will 
 be amazed\, engaged\, and laughing out loud!  Children are invited to wear
  their Halloween costumes too! This is a free program and registration is 
 not necessary.
LAST-MODIFIED:20181008T132833Z
LOCATION:Library Community Room
URL:https://www.morton.michlibrary.org/news-events/lib-cal/spooky-monster-
 magic-show
END:VEVENT
BEGIN:VTIMEZONE
TZID:US/Eastern
X-LIC-LOCATION:US/Eastern
BEGIN:DAYLIGHT
DTSTART:20180311T030000
TZNAME:EDT
TZOFFSETFROM:-0500
TZOFFSETTO:-0400
END:DAYLIGHT
END:VTIMEZONE
END:VCALENDAR
