BEGIN:VCALENDAR
VERSION:2.0
PRODID:-//Plone.org//NONSGML plone.app.event//EN
X-WR-TIMEZONE:US/Eastern
BEGIN:VEVENT
SUMMARY:Spooktacular Magic Show - Family Fun Night
DTSTART;TZID=US/Eastern:20231024T183000
DTEND;TZID=US/Eastern:20231024T191500
DTSTAMP:20260419T154229Z
UID:09eabcaedecf459e81c4d8a3a63673b2@saas_stack_varnish:6080
CREATED:20230928T133006Z
DESCRIPTION:Join Joel Tacey for this Halloween Magic Show featuring amazin
 g magic\, dazzling juggling\, and lots of audience participation.  Childre
 n are invited to wear their Halloween costumes\, too!
LAST-MODIFIED:20230928T133015Z
LOCATION:Morton Township Library Community Room
URL:https://www.morton.michlibrary.org/news-events/lib-cal/spooktacular-ma
 gic-show-family-fun-night
END:VEVENT
BEGIN:VTIMEZONE
TZID:US/Eastern
X-LIC-LOCATION:US/Eastern
BEGIN:DAYLIGHT
DTSTART:20230312T030000
TZNAME:EDT
TZOFFSETFROM:-0500
TZOFFSETTO:-0400
END:DAYLIGHT
END:VTIMEZONE
END:VCALENDAR
