BEGIN:VCALENDAR
VERSION:2.0
PRODID:-//Plone.org//NONSGML plone.app.event//EN
X-WR-TIMEZONE:US/Eastern
BEGIN:VEVENT
SUMMARY:Ron Lloyd - Bubbleman - Children's Summer Reading Program
DTSTART;TZID=US/Eastern:20190717T133000
DTEND;TZID=US/Eastern:20190717T143000
DTSTAMP:20260420T083607Z
UID:4c610dce49df41ffb2933bb924e7af90@saas_stack_varnish:6080
CREATED:20190514T185054Z
DESCRIPTION:Launch into the fascinating world of bubbles!  Bubbleologist R
 on Lloyd will amaze the audience as he creates cube bubbles\, double merry
 -go-round bubbles\, smoke filled bubbles and so much more!
LAST-MODIFIED:20190514T185059Z
LOCATION:Library Community Room
URL:https://www.morton.michlibrary.org/news-events/lib-cal/ron-lloyd-bubbl
 eman-childrens-summer-reading-program
END:VEVENT
BEGIN:VTIMEZONE
TZID:US/Eastern
X-LIC-LOCATION:US/Eastern
BEGIN:DAYLIGHT
DTSTART:20190310T030000
TZNAME:EDT
TZOFFSETFROM:-0500
TZOFFSETTO:-0400
END:DAYLIGHT
END:VTIMEZONE
END:VCALENDAR
