BEGIN:VCALENDAR
VERSION:2.0
PRODID:-//Plone.org//NONSGML plone.app.event//EN
X-WR-TIMEZONE:US/Eastern
BEGIN:VEVENT
SUMMARY:Rockin' and Reading with Leonardo - Children's Summer Reading Prog
 ram
DTSTART;TZID=US/Eastern:20220713T133000
DTEND;TZID=US/Eastern:20220713T143000
DTSTAMP:20260419T212536Z
UID:3e0b22a6471643f696b533e8160f3f48@saas_stack_varnish:6080
CREATED:20220516T135456Z
DESCRIPTION:Bring your dancing shoes and your best air guitar moves...it's
  time to go rockin' and reading with Leonardo.  He is a Parents' Choice Aw
 ard winning musician from Chicago strumming into town with humorous high e
 nergy music that inspires little rockers to become big readers.
LAST-MODIFIED:20220516T135542Z
LOCATION:Library Community Room
URL:https://www.morton.michlibrary.org/news-events/lib-cal/rockin-and-read
 ing-with-leonardo-childrens-summer-reading-program
END:VEVENT
BEGIN:VTIMEZONE
TZID:US/Eastern
X-LIC-LOCATION:US/Eastern
BEGIN:DAYLIGHT
DTSTART:20220313T030000
TZNAME:EDT
TZOFFSETFROM:-0500
TZOFFSETTO:-0400
END:DAYLIGHT
END:VTIMEZONE
END:VCALENDAR
