BEGIN:VCALENDAR
VERSION:2.0
PRODID:-//Plone.org//NONSGML plone.app.event//EN
X-WR-TIMEZONE:US/Eastern
BEGIN:VEVENT
SUMMARY:Richard Paul\, Ventriloquist - Children's Summer Reading Program
DTSTART;TZID=US/Eastern:20220615T133000
DTEND;TZID=US/Eastern:20220615T143000
DTSTAMP:20260419T225933Z
UID:44c2b13e91254a68a59cf8ba4a072648@saas_stack_varnish:6080
CREATED:20220516T133942Z
DESCRIPTION:Richard Paul and his puppet friends will entertain the audienc
 e with a mix of stand-up comedy\, music\, magic\, and funny ventriloquist 
 characters.
LAST-MODIFIED:20220516T134154Z
LOCATION:Library Community Room
URL:https://www.morton.michlibrary.org/news-events/lib-cal/richard-paul-ve
 ntriloquist-childrens-summer-reading-program
END:VEVENT
BEGIN:VTIMEZONE
TZID:US/Eastern
X-LIC-LOCATION:US/Eastern
BEGIN:DAYLIGHT
DTSTART:20220313T030000
TZNAME:EDT
TZOFFSETFROM:-0500
TZOFFSETTO:-0400
END:DAYLIGHT
END:VTIMEZONE
END:VCALENDAR
