BEGIN:VCALENDAR
VERSION:2.0
PRODID:-//Plone.org//NONSGML plone.app.event//EN
X-WR-TIMEZONE:US/Eastern
BEGIN:VEVENT
SUMMARY:Revolutionary War Drumming and Colonial Music Program
DTSTART;TZID=US/Eastern:20230615T190000
DTEND;TZID=US/Eastern:20230615T200000
DTSTAMP:20260419T170329Z
UID:e8e10123f71646a38fba1accda4b756b@saas_stack_varnish:6080
CREATED:20230606T125625Z
DESCRIPTION:Experience music of colonial America and drum signals heard du
 ring the Revolutionary War\, as Major Ewing (U.S. Army\, Retired) portrays
  a Revolutionary War Drummer. You will be thrilled with the sounds of mili
 tary drumming and marches\, and off duty music that the soldiers of that t
 ime participated in. Relive history and feel the patriotism of our forefat
 hers and mothers. Their sacrifices back then gave us our freedom of today.
LAST-MODIFIED:20230606T125632Z
LOCATION:Morton Township Library Community Room
URL:https://www.morton.michlibrary.org/news-events/lib-cal/revolutionary-w
 ar-drumming-and-colonial-music-program
END:VEVENT
BEGIN:VTIMEZONE
TZID:US/Eastern
X-LIC-LOCATION:US/Eastern
BEGIN:DAYLIGHT
DTSTART:20230312T030000
TZNAME:EDT
TZOFFSETFROM:-0500
TZOFFSETTO:-0400
END:DAYLIGHT
END:VTIMEZONE
END:VCALENDAR
