BEGIN:VCALENDAR
VERSION:2.0
PRODID:-//Plone.org//NONSGML plone.app.event//EN
X-WR-TIMEZONE:US/Eastern
BEGIN:VEVENT
SUMMARY:Repco Wildlife Encounters - Live Animals - Children's Summer Readi
 ng Program
DTSTART;TZID=US/Eastern:20220706T133000
DTEND;TZID=US/Eastern:20220706T143000
DTSTAMP:20260419T212624Z
UID:579de556583b49f39cccfacd5cc7487b@saas_stack_varnish:6080
CREATED:20220516T135249Z
DESCRIPTION:This live animal program will feature a variety of mammals\, r
 eptiles\, and birds to provide a fascinating and unforgettable experience.
LAST-MODIFIED:20220516T135329Z
LOCATION:Library Community Room
URL:https://www.morton.michlibrary.org/news-events/lib-cal/repco-wildlife-
 encounters-live-animals-childrens-summer-reading-program
END:VEVENT
BEGIN:VTIMEZONE
TZID:US/Eastern
X-LIC-LOCATION:US/Eastern
BEGIN:DAYLIGHT
DTSTART:20220313T030000
TZNAME:EDT
TZOFFSETFROM:-0500
TZOFFSETTO:-0400
END:DAYLIGHT
END:VTIMEZONE
END:VCALENDAR
