BEGIN:VCALENDAR
VERSION:2.0
PRODID:-//Plone.org//NONSGML plone.app.event//EN
X-WR-TIMEZONE:US/Eastern
BEGIN:VEVENT
SUMMARY:Preschool Story Hour
DTSTART;TZID=US/Eastern:20180731T100000
DTEND;TZID=US/Eastern:20180731T110000
DTSTAMP:20260422T122002Z
UID:b533faa8e0544cf4b9aef7026db4b2bc@saas_stack_varnish:6080
CREATED:20180514T151101Z
DESCRIPTION:Children ages 1-5 and caregivers are invited to join us for ex
 citing stories\, songs\, rhymes\, finger plays and crafts.  Pre-registrati
 on is not necessary.  Walk-ins are welcome.
LAST-MODIFIED:20180514T151114Z
LOCATION:Children's Programming Room
URL:https://www.morton.michlibrary.org/news-events/lib-cal/preschool-story
 -hour-9/2018-07-31
END:VEVENT
BEGIN:VTIMEZONE
TZID:US/Eastern
X-LIC-LOCATION:US/Eastern
BEGIN:DAYLIGHT
DTSTART:20180311T030000
TZNAME:EDT
TZOFFSETFROM:-0500
TZOFFSETTO:-0400
END:DAYLIGHT
END:VTIMEZONE
END:VCALENDAR
