BEGIN:VCALENDAR
VERSION:2.0
PRODID:-//Plone.org//NONSGML plone.app.event//EN
X-WR-TIMEZONE:US/Eastern
BEGIN:VEVENT
SUMMARY:Preschool Story Hour
DTSTART;TZID=US/Eastern:20180109T100000
DTEND;TZID=US/Eastern:20180109T110000
DTSTAMP:20260422T164002Z
UID:fdae66b1445347899acc89263dba6a81@saas_stack_varnish:6080
RRULE:FREQ=WEEKLY;UNTIL=20180509T000000;BYDAY=TU
EXDATE;TZID=US/Eastern:20180327T000000
CREATED:20180103T180631Z
DESCRIPTION:For ages 2 - 5. Join us for stories\, songs\, finger plays\, c
 rafts and snacks.
LAST-MODIFIED:20180103T180649Z
LOCATION:Children's Programming Room
URL:https://www.morton.michlibrary.org/news-events/lib-cal/preschool-story
 -hour-8
END:VEVENT
BEGIN:VTIMEZONE
TZID:US/Eastern
X-LIC-LOCATION:US/Eastern
BEGIN:STANDARD
DTSTART:20171105T010000
TZNAME:EST
TZOFFSETFROM:-0400
TZOFFSETTO:-0500
END:STANDARD
END:VTIMEZONE
END:VCALENDAR
