BEGIN:VCALENDAR
VERSION:2.0
PRODID:-//Plone.org//NONSGML plone.app.event//EN
X-WR-TIMEZONE:US/Eastern
BEGIN:VEVENT
SUMMARY:Preschool Story Hour
DTSTART;TZID=US/Eastern:20180417T100000
DTEND;TZID=US/Eastern:20180417T110000
DTSTAMP:20260422T152219Z
UID:fdae66b1445347899acc89263dba6a81@saas_stack_varnish:6080
CREATED:20180103T180631Z
DESCRIPTION:For ages 2 - 5. Join us for stories\, songs\, finger plays\, c
 rafts and snacks.
LAST-MODIFIED:20180103T180649Z
LOCATION:Children's Programming Room
URL:https://www.morton.michlibrary.org/news-events/lib-cal/preschool-story
 -hour-8/2018-04-17
END:VEVENT
BEGIN:VTIMEZONE
TZID:US/Eastern
X-LIC-LOCATION:US/Eastern
BEGIN:DAYLIGHT
DTSTART:20180311T030000
TZNAME:EDT
TZOFFSETFROM:-0500
TZOFFSETTO:-0400
END:DAYLIGHT
END:VTIMEZONE
END:VCALENDAR
