BEGIN:VCALENDAR
VERSION:2.0
PRODID:-//Plone.org//NONSGML plone.app.event//EN
X-WR-TIMEZONE:US/Eastern
BEGIN:VEVENT
SUMMARY:Preschool Story Hour
DTSTART;TZID=US/Eastern:20240305T100000
DTEND;TZID=US/Eastern:20240305T110000
DTSTAMP:20260419T123005Z
UID:0bba643e2c1149269dbc6f1cca8fc57a@saas_stack_varnish:6080
CREATED:20240104T141717Z
DESCRIPTION:Children\, ages 5 and under\, and caregivers are invited to jo
 in us for stories\, rhymes\, songs\, crafts and FUN!
LAST-MODIFIED:20240104T141726Z
LOCATION:Children's Programming Room
URL:https://www.morton.michlibrary.org/news-events/lib-cal/preschool-story
 -hour-18/2024-03-05
END:VEVENT
BEGIN:VTIMEZONE
TZID:US/Eastern
X-LIC-LOCATION:US/Eastern
BEGIN:STANDARD
DTSTART:20231105T010000
TZNAME:EST
TZOFFSETFROM:-0400
TZOFFSETTO:-0500
END:STANDARD
END:VTIMEZONE
END:VCALENDAR
