BEGIN:VCALENDAR
VERSION:2.0
PRODID:-//Plone.org//NONSGML plone.app.event//EN
X-WR-TIMEZONE:US/Eastern
BEGIN:VEVENT
SUMMARY:Preschool Story Hour
DTSTART;TZID=US/Eastern:20230713T100000
DTEND;TZID=US/Eastern:20230713T110000
DTSTAMP:20260419T170847Z
UID:19bca4d12f38478480179ef3a150ad86@saas_stack_varnish:6080
CREATED:20230510T203429Z
DESCRIPTION:Children\, ages 5 and under\, and caregivers are invited to jo
 in us for stories\, rhymes\, songs\, crafts and FUN!
LAST-MODIFIED:20230510T203436Z
LOCATION:Children's Programming Room
URL:https://www.morton.michlibrary.org/news-events/lib-cal/preschool-story
 -hour-16/2023-07-13
END:VEVENT
BEGIN:VTIMEZONE
TZID:US/Eastern
X-LIC-LOCATION:US/Eastern
BEGIN:DAYLIGHT
DTSTART:20230312T030000
TZNAME:EDT
TZOFFSETFROM:-0500
TZOFFSETTO:-0400
END:DAYLIGHT
END:VTIMEZONE
END:VCALENDAR
