BEGIN:VCALENDAR
VERSION:2.0
PRODID:-//Plone.org//NONSGML plone.app.event//EN
X-WR-TIMEZONE:US/Eastern
BEGIN:VEVENT
SUMMARY:Preschool Story Hour
DTSTART;TZID=US/Eastern:20230425T100000
DTEND;TZID=US/Eastern:20230425T110000
DTSTAMP:20260419T183320Z
UID:278b488c37494753bd38dee54e24c64a@saas_stack_varnish:6080
CREATED:20230103T180836Z
DESCRIPTION:Children\, ages 5 and under\, and caregivers are invited to jo
 in us for stories\, songs\, rhymes\, crafts\, and FUN!
LAST-MODIFIED:20230103T180842Z
LOCATION:Children's Programming Room
URL:https://www.morton.michlibrary.org/news-events/lib-cal/preschool-story
 -hour-15/2023-04-25
END:VEVENT
BEGIN:VTIMEZONE
TZID:US/Eastern
X-LIC-LOCATION:US/Eastern
BEGIN:DAYLIGHT
DTSTART:20230312T030000
TZNAME:EDT
TZOFFSETFROM:-0500
TZOFFSETTO:-0400
END:DAYLIGHT
END:VTIMEZONE
END:VCALENDAR
