BEGIN:VCALENDAR
VERSION:2.0
PRODID:-//Plone.org//NONSGML plone.app.event//EN
X-WR-TIMEZONE:US/Eastern
BEGIN:VEVENT
SUMMARY:Preschool Story Hour
DTSTART;TZID=US/Eastern:20230124T100000
DTEND;TZID=US/Eastern:20230124T110000
DTSTAMP:20260419T183459Z
UID:278b488c37494753bd38dee54e24c64a@saas_stack_varnish:6080
CREATED:20230103T180836Z
DESCRIPTION:Children\, ages 5 and under\, and caregivers are invited to jo
 in us for stories\, songs\, rhymes\, crafts\, and FUN!
LAST-MODIFIED:20230103T180842Z
LOCATION:Children's Programming Room
URL:https://www.morton.michlibrary.org/news-events/lib-cal/preschool-story
 -hour-15/2023-01-24
END:VEVENT
BEGIN:VTIMEZONE
TZID:US/Eastern
X-LIC-LOCATION:US/Eastern
BEGIN:STANDARD
DTSTART:20221106T010000
TZNAME:EST
TZOFFSETFROM:-0400
TZOFFSETTO:-0500
END:STANDARD
END:VTIMEZONE
END:VCALENDAR
