BEGIN:VCALENDAR
VERSION:2.0
PRODID:-//Plone.org//NONSGML plone.app.event//EN
X-WR-TIMEZONE:US/Eastern
BEGIN:VEVENT
SUMMARY:Preschool Story Hour
DTSTART;TZID=US/Eastern:20220707T100000
DTEND;TZID=US/Eastern:20220707T110000
DTSTAMP:20260419T212923Z
UID:055aa337353c4e6a9fe052a1b2bde0db@saas_stack_varnish:6080
CREATED:20220511T185812Z
DESCRIPTION:Children\, ages 5 and under\, are invited to join us for stori
 es\, songs\, rhymes\, crafts\, snacks and fun! (The Tuesday and Thursday s
 essions are the same program\, so please choose one day to attend.)
LAST-MODIFIED:20220511T185820Z
LOCATION:Children's Programming Room
URL:https://www.morton.michlibrary.org/news-events/lib-cal/preschool-story
 -hour-13/2022-07-07
END:VEVENT
BEGIN:VTIMEZONE
TZID:US/Eastern
X-LIC-LOCATION:US/Eastern
BEGIN:DAYLIGHT
DTSTART:20220313T030000
TZNAME:EDT
TZOFFSETFROM:-0500
TZOFFSETTO:-0400
END:DAYLIGHT
END:VTIMEZONE
END:VCALENDAR
