BEGIN:VCALENDAR
VERSION:2.0
PRODID:-//Plone.org//NONSGML plone.app.event//EN
X-WR-TIMEZONE:US/Eastern
BEGIN:VEVENT
SUMMARY:Preschool Story Hour
DTSTART;TZID=US/Eastern:20200421T100000
DTEND;TZID=US/Eastern:20200421T110000
DTSTAMP:20260420T032121Z
UID:4c611b43481d4161b639ff3dbd2f44f9@saas_stack_varnish:6080
CREATED:20200102T153320Z
DESCRIPTION:For ages 2 - 5 and caregivers. Join us for stories\, songs\, r
 hymes\, crafts\, and a snack.
LAST-MODIFIED:20200102T153330Z
LOCATION:Library Programming Room
URL:https://www.morton.michlibrary.org/news-events/lib-cal/preschool-story
 -hour-12/2020-04-21
END:VEVENT
BEGIN:VTIMEZONE
TZID:US/Eastern
X-LIC-LOCATION:US/Eastern
BEGIN:DAYLIGHT
DTSTART:20200308T030000
TZNAME:EDT
TZOFFSETFROM:-0500
TZOFFSETTO:-0400
END:DAYLIGHT
END:VTIMEZONE
END:VCALENDAR
