BEGIN:VCALENDAR
VERSION:2.0
PRODID:-//Plone.org//NONSGML plone.app.event//EN
X-WR-TIMEZONE:US/Eastern
BEGIN:VEVENT
SUMMARY:Preschool Story Hour
DTSTART;TZID=US/Eastern:20200114T100000
DTEND;TZID=US/Eastern:20200114T110000
DTSTAMP:20260420T051053Z
UID:4c611b43481d4161b639ff3dbd2f44f9@saas_stack_varnish:6080
CREATED:20200102T153320Z
DESCRIPTION:For ages 2 - 5 and caregivers. Join us for stories\, songs\, r
 hymes\, crafts\, and a snack.
LAST-MODIFIED:20200102T153330Z
LOCATION:Library Programming Room
URL:https://www.morton.michlibrary.org/news-events/lib-cal/preschool-story
 -hour-12/2020-01-14
END:VEVENT
BEGIN:VTIMEZONE
TZID:US/Eastern
X-LIC-LOCATION:US/Eastern
BEGIN:STANDARD
DTSTART:20191103T010000
TZNAME:EST
TZOFFSETFROM:-0400
TZOFFSETTO:-0500
END:STANDARD
END:VTIMEZONE
END:VCALENDAR
