BEGIN:VCALENDAR
VERSION:2.0
PRODID:-//Plone.org//NONSGML plone.app.event//EN
X-WR-TIMEZONE:US/Eastern
BEGIN:VEVENT
SUMMARY:Preschool Story Hour
DTSTART;TZID=US/Eastern:20181030T100000
DTEND;TZID=US/Eastern:20181030T110000
DTSTAMP:20260420T150912Z
UID:6923280ce7de4a1aaf8675f443d67948@saas_stack_varnish:6080
CREATED:20180831T195254Z
DESCRIPTION:For ages 2 - 5.  Join us for stories\, songs\, rhymes\, crafts
 \, and a snack.
LAST-MODIFIED:20180831T195340Z
LOCATION:Children's Programming Room
URL:https://www.morton.michlibrary.org/news-events/lib-cal/preschool-story
 -hour-10/2018-10-30
END:VEVENT
BEGIN:VTIMEZONE
TZID:US/Eastern
X-LIC-LOCATION:US/Eastern
BEGIN:DAYLIGHT
DTSTART:20180311T030000
TZNAME:EDT
TZOFFSETFROM:-0500
TZOFFSETTO:-0400
END:DAYLIGHT
END:VTIMEZONE
END:VCALENDAR
