BEGIN:VCALENDAR
VERSION:2.0
PRODID:-//Plone.org//NONSGML plone.app.event//EN
X-WR-TIMEZONE:US/Eastern
BEGIN:VEVENT
SUMMARY:Page Turners' Book Club
DTSTART;TZID=US/Eastern:20240213T130000
DTEND;TZID=US/Eastern:20240213T140000
DTSTAMP:20260421T121845Z
UID:80de227463214ffc83882f05a56b787e@saas_stack_varnish:6080
CREATED:20240104T142302Z
DESCRIPTION:Are you interested in reading a variety of literature? Do you 
 enjoy discussing literary works? If so\, this is the group for you! New me
 mbers are always welcome.
LAST-MODIFIED:20240104T142312Z
LOCATION:Library Meeting Room
URL:https://www.morton.michlibrary.org/news-events/lib-cal/page-turners-bo
 ok-club-4/2024-02-13
END:VEVENT
BEGIN:VTIMEZONE
TZID:US/Eastern
X-LIC-LOCATION:US/Eastern
BEGIN:STANDARD
DTSTART:20231105T010000
TZNAME:EST
TZOFFSETFROM:-0400
TZOFFSETTO:-0500
END:STANDARD
END:VTIMEZONE
END:VCALENDAR
