BEGIN:VCALENDAR
VERSION:2.0
PRODID:-//Plone.org//NONSGML plone.app.event//EN
X-WR-TIMEZONE:US/Eastern
BEGIN:VEVENT
SUMMARY:Page Turners' Book Club
DTSTART;TZID=US/Eastern:20231212T130000
DTEND;TZID=US/Eastern:20231212T143000
DTSTAMP:20260419T141715Z
UID:2ba3b1d60b3548a48ec9ff9ddf194319@saas_stack_varnish:6080
CREATED:20230103T181238Z
DESCRIPTION:Are you interested in reading a variety of literature?  Do you
  enjoy discussing literary works?  If so\, this is the group for you!  New
  members are always welcome.
LAST-MODIFIED:20230103T181441Z
LOCATION:Library Meeting Room
URL:https://www.morton.michlibrary.org/news-events/lib-cal/page-turners-bo
 ok-club-3/2023-12-12
END:VEVENT
BEGIN:VTIMEZONE
TZID:US/Eastern
X-LIC-LOCATION:US/Eastern
BEGIN:STANDARD
DTSTART:20231105T010000
TZNAME:EST
TZOFFSETFROM:-0400
TZOFFSETTO:-0500
END:STANDARD
END:VTIMEZONE
END:VCALENDAR
